BEGIN:VCALENDAR
VERSION:2.0
PRODID:-//Buy Local - ECPv6.6.4.2//NONSGML v1.0//EN
CALSCALE:GREGORIAN
METHOD:PUBLISH
X-ORIGINAL-URL:https://buylocalsavannah.com
X-WR-CALDESC:Events for Buy Local
REFRESH-INTERVAL;VALUE=DURATION:PT1H
X-Robots-Tag:noindex
X-PUBLISHED-TTL:PT1H
BEGIN:VTIMEZONE
TZID:America/New_York
BEGIN:DAYLIGHT
TZOFFSETFROM:-0500
TZOFFSETTO:-0400
TZNAME:EDT
DTSTART:20220313T070000
END:DAYLIGHT
BEGIN:STANDARD
TZOFFSETFROM:-0400
TZOFFSETTO:-0500
TZNAME:EST
DTSTART:20221106T060000
END:STANDARD
BEGIN:DAYLIGHT
TZOFFSETFROM:-0500
TZOFFSETTO:-0400
TZNAME:EDT
DTSTART:20230312T070000
END:DAYLIGHT
BEGIN:STANDARD
TZOFFSETFROM:-0400
TZOFFSETTO:-0500
TZNAME:EST
DTSTART:20231105T060000
END:STANDARD
END:VTIMEZONE
BEGIN:VEVENT
DTSTART;TZID=America/New_York:20230530T083000
DTEND;TZID=America/New_York:20230530T100000
DTSTAMP:20260420T154433
CREATED:20230511T174326Z
LAST-MODIFIED:20230616T150118Z
UID:1955-1685435400-1685440800@buylocalsavannah.com
SUMMARY:May 2023 Early Edition
DESCRIPTION:Rise and shine and join Buy Local for our May Early Edition! We’ll be meeting up at Sweet Patricia’s on Tuesday\, May 30 from 8:30–10 am. Register to give a quick elevator pitch (60 seconds) about your business ($10 for Members/Friends of Buy Local and $15 for Nonmembers). Coffee and breakfast will be available for purchase directly with Sweet Patricia’s.
URL:https://buylocalsavannah.com/buy-local-event/may-2023-early-edition/
LOCATION:Sweet Patricia’s\, 1722 Habersham St\, Savannah\, GA\, 31401\, United States
CATEGORIES:Early Edition,Featured Events
ATTACH;FMTTYPE=image/png:https://buylocalsavannah.com/wp-content/uploads/2023/05/May-2023-Early-Edition.png
END:VEVENT
BEGIN:VEVENT
DTSTART;TZID=America/New_York:20230307T083000
DTEND;TZID=America/New_York:20230307T100000
DTSTAMP:20260420T154433
CREATED:20230302T150941Z
LAST-MODIFIED:20230511T174338Z
UID:1652-1678177800-1678183200@buylocalsavannah.com
SUMMARY:March 2023 Early Edition
DESCRIPTION:Rise and shine and join Buy Local for our first Early Edition of 2023! We’ll be meeting up at the newly renovated Coffee Deli on Tuesday\, March 7 from 8:30–10 am. Register to give a quick elevator pitch (60 seconds) about your business ($10 for Members/Friends of Buy Local and $15 for Nonmembers). Coffee and breakfast will be available for purchase directly with Coffee Deli.
URL:https://buylocalsavannah.com/buy-local-event/march-2023-early-edition/
LOCATION:Coffee Deli\, 4517 Habersham St\, Savannah\, GA\, 31405\, United States
CATEGORIES:Early Edition,Featured Events,Special Events
ATTACH;FMTTYPE=image/png:https://buylocalsavannah.com/wp-content/uploads/2023/03/Early-Edition-March-2023.png
END:VEVENT
BEGIN:VEVENT
DTSTART;TZID=America/New_York:20221103T083000
DTEND;TZID=America/New_York:20221103T100000
DTSTAMP:20260420T154433
CREATED:20221019T190756Z
LAST-MODIFIED:20221118T143141Z
UID:1137-1667464200-1667469600@buylocalsavannah.com
SUMMARY:November 2022 Early Edition
DESCRIPTION:Thursday\, November 3\n8:30–10 a.m.\nThe Café on 63rd\n\nWhat better way to start your day than with a Buy Local Early Edition? Join us for some morning networking\, no tickets needed this time. The The Café on 63rd will be open if you’d like to purchase a coffee and some yummy baked goods.\n\nWe look forward to seeing you there!
URL:https://buylocalsavannah.com/buy-local-event/november-2022-early-edition/
LOCATION:The Café on 63rd\, 513 E 63rd St\, Savannah\, 31405\, United States
CATEGORIES:Early Edition,Featured Events
ATTACH;FMTTYPE=image/png:https://buylocalsavannah.com/wp-content/uploads/2022/10/Buy-Local-Early-Edition-November-2022-Cafe-on-63rd.png
END:VEVENT
END:VCALENDAR